BEGIN:VCALENDAR
VERSION:2.0
PRODID:-//At Home Veterinary Care - ECPv6.15.20//NONSGML v1.0//EN
CALSCALE:GREGORIAN
METHOD:PUBLISH
X-WR-CALNAME:At Home Veterinary Care
X-ORIGINAL-URL:https://athomevet.care
X-WR-CALDESC:Events for At Home Veterinary Care
REFRESH-INTERVAL;VALUE=DURATION:PT1H
X-Robots-Tag:noindex
X-PUBLISHED-TTL:PT1H
BEGIN:VTIMEZONE
TZID:America/New_York
BEGIN:DAYLIGHT
TZOFFSETFROM:-0500
TZOFFSETTO:-0400
TZNAME:EDT
DTSTART:20230312T070000
END:DAYLIGHT
BEGIN:STANDARD
TZOFFSETFROM:-0400
TZOFFSETTO:-0500
TZNAME:EST
DTSTART:20231105T060000
END:STANDARD
BEGIN:DAYLIGHT
TZOFFSETFROM:-0500
TZOFFSETTO:-0400
TZNAME:EDT
DTSTART:20240310T070000
END:DAYLIGHT
BEGIN:STANDARD
TZOFFSETFROM:-0400
TZOFFSETTO:-0500
TZNAME:EST
DTSTART:20241103T060000
END:STANDARD
BEGIN:DAYLIGHT
TZOFFSETFROM:-0500
TZOFFSETTO:-0400
TZNAME:EDT
DTSTART:20250309T070000
END:DAYLIGHT
BEGIN:STANDARD
TZOFFSETFROM:-0400
TZOFFSETTO:-0500
TZNAME:EST
DTSTART:20251102T060000
END:STANDARD
BEGIN:DAYLIGHT
TZOFFSETFROM:-0500
TZOFFSETTO:-0400
TZNAME:EDT
DTSTART:20260308T070000
END:DAYLIGHT
BEGIN:STANDARD
TZOFFSETFROM:-0400
TZOFFSETTO:-0500
TZNAME:EST
DTSTART:20261101T060000
END:STANDARD
END:VTIMEZONE
BEGIN:VEVENT
DTSTART;TZID=America/New_York:20240928T100000
DTEND;TZID=America/New_York:20240928T130000
DTSTAMP:20260420T024824
CREATED:20240721T003845Z
LAST-MODIFIED:20240721T003859Z
UID:5887-1727517600-1727528400@athomevet.care
SUMMARY:Splash Saturday
DESCRIPTION:Join us in our Splash Park for summertime fun!
URL:https://athomevet.care/event/splash-saturday-8/
LOCATION:At Home Veterinary Care\, 1833 Junwin Ct.\, Tallahassee\, FL\, 32308\, United States
CATEGORIES:Special Event
ATTACH;FMTTYPE=image/jpeg:https://athomevet.care/wp-content/uploads/2022/12/1002191049b-1-scaled.jpg
END:VEVENT
BEGIN:VEVENT
DTSTART;TZID=America/New_York:20241002T100000
DTEND;TZID=America/New_York:20241002T170000
DTSTAMP:20260420T024824
CREATED:20240721T004739Z
LAST-MODIFIED:20240721T004740Z
UID:5913-1727863200-1727888400@athomevet.care
SUMMARY:Wacky Water Wednesday
DESCRIPTION:Enjoy our Splash Park on Wednesdays. Call the office to reserve your slot.
URL:https://athomevet.care/event/wacky-water-wednesday-11/
LOCATION:At Home Veterinary Care\, 1833 Junwin Ct.\, Tallahassee\, FL\, 32308\, United States
CATEGORIES:Special Event
ATTACH;FMTTYPE=image/jpeg:https://athomevet.care/wp-content/uploads/2022/12/waterwed1-1.jpg
END:VEVENT
BEGIN:VEVENT
DTSTART;TZID=America/New_York:20241005T100000
DTEND;TZID=America/New_York:20241005T130000
DTSTAMP:20260420T024824
CREATED:20240721T004207Z
LAST-MODIFIED:20240721T004207Z
UID:5889-1728122400-1728133200@athomevet.care
SUMMARY:Splash Saturday
DESCRIPTION:Join us in our Splash Park for summertime fun!
URL:https://athomevet.care/event/splash-saturday-9/
LOCATION:At Home Veterinary Care\, 1833 Junwin Ct.\, Tallahassee\, FL\, 32308\, United States
CATEGORIES:Special Event
ATTACH;FMTTYPE=image/jpeg:https://athomevet.care/wp-content/uploads/2022/12/1002191049b-1-scaled.jpg
END:VEVENT
BEGIN:VEVENT
DTSTART;TZID=America/New_York:20241009T100000
DTEND;TZID=America/New_York:20241009T170000
DTSTAMP:20260420T024824
CREATED:20240721T004753Z
LAST-MODIFIED:20240721T004754Z
UID:5915-1728468000-1728493200@athomevet.care
SUMMARY:Wacky Water Wednesday
DESCRIPTION:Enjoy our Splash Park on Wednesdays. Call the office to reserve your slot.
URL:https://athomevet.care/event/wacky-water-wednesday-12/
LOCATION:At Home Veterinary Care\, 1833 Junwin Ct.\, Tallahassee\, FL\, 32308\, United States
CATEGORIES:Special Event
ATTACH;FMTTYPE=image/jpeg:https://athomevet.care/wp-content/uploads/2022/12/waterwed1-1.jpg
END:VEVENT
BEGIN:VEVENT
DTSTART;TZID=America/New_York:20241012T100000
DTEND;TZID=America/New_York:20241012T130000
DTSTAMP:20260420T024824
CREATED:20240721T004223Z
LAST-MODIFIED:20240721T004224Z
UID:5891-1728727200-1728738000@athomevet.care
SUMMARY:Splash Saturday
DESCRIPTION:Join us in our Splash Park for summertime fun!
URL:https://athomevet.care/event/splash-saturday-10/
LOCATION:At Home Veterinary Care\, 1833 Junwin Ct.\, Tallahassee\, FL\, 32308\, United States
CATEGORIES:Special Event
ATTACH;FMTTYPE=image/jpeg:https://athomevet.care/wp-content/uploads/2022/12/1002191049b-1-scaled.jpg
END:VEVENT
BEGIN:VEVENT
DTSTART;TZID=America/New_York:20241016T100000
DTEND;TZID=America/New_York:20241016T170000
DTSTAMP:20260420T024824
CREATED:20240721T004817Z
LAST-MODIFIED:20240721T004901Z
UID:5917-1729072800-1729098000@athomevet.care
SUMMARY:Wacky Water Wednesday
DESCRIPTION:Enjoy our Splash Park on Wednesdays. Call the office to reserve your slot.
URL:https://athomevet.care/event/wacky-water-wednesday-13/
LOCATION:At Home Veterinary Care\, 1833 Junwin Ct.\, Tallahassee\, FL\, 32308\, United States
CATEGORIES:Special Event
ATTACH;FMTTYPE=image/jpeg:https://athomevet.care/wp-content/uploads/2022/12/waterwed1-1.jpg
END:VEVENT
BEGIN:VEVENT
DTSTART;TZID=America/New_York:20241019T000000
DTEND;TZID=America/New_York:20241019T235959
DTSTAMP:20260420T024824
CREATED:20240721T005209Z
LAST-MODIFIED:20240721T005256Z
UID:5921-1729296000-1729382399@athomevet.care
SUMMARY:Barktoberfest 2024
DESCRIPTION:Details TBA
URL:https://athomevet.care/event/barktoberfest-2024/
LOCATION:At Home Veterinary Care\, 1833 Junwin Ct.\, Tallahassee\, FL\, 32308\, United States
CATEGORIES:Special Event
ATTACH;FMTTYPE=image/jpeg:https://athomevet.care/wp-content/uploads/2024/07/qtq80-0Wb9l7.jpeg
END:VEVENT
BEGIN:VEVENT
DTSTART;TZID=America/New_York:20241031T103000
DTEND;TZID=America/New_York:20241031T170000
DTSTAMP:20260420T024824
CREATED:20241018T163911Z
LAST-MODIFIED:20241018T164239Z
UID:6318-1730370600-1730394000@athomevet.care
SUMMARY:Join Us for a Barkin' Halloween
DESCRIPTION:Join us for a fun-filled Dog Halloween Party on October 31\, 2024\, from 10 AM to 5 PM! We have an exciting lineup of activities planned\, including bobbing for tennis balls\, a trick for a treat\, and a costume contest. The costume contest will also invite parents to join in the fun from 4 to 5 PM. \n\n\n\nThe cost is $25 per pup\, but it’s included for those with a playcare package. We encourage you to bring new friends along for a howling good time! Please RSVP by calling 850-274-5710. We can’t wait to celebrate Halloween with you and your furry companions!
URL:https://athomevet.care/event/barkin-halloween/
LOCATION:At Home Veterinary Care\, 1833 Junwin Ct.\, Tallahassee\, FL\, 32308\, United States
CATEGORIES:Special Event
END:VEVENT
BEGIN:VEVENT
DTSTART;TZID=America/New_York:20241224T073000
DTEND;TZID=America/New_York:20241224T140000
DTSTAMP:20260420T024824
CREATED:20241212T182530Z
LAST-MODIFIED:20241212T183917Z
UID:6323-1735025400-1735048800@athomevet.care
SUMMARY:Christmas Eve Hours
DESCRIPTION:All pets must be dropped off OR picked up by 2 PM. Late drop-offs or pickups will not be accepted.
URL:https://athomevet.care/event/christmas-eve-hours/
CATEGORIES:Holiday Hours
END:VEVENT
BEGIN:VEVENT
DTSTART;TZID=America/New_York:20241225T000000
DTEND;TZID=America/New_York:20241225T235959
DTSTAMP:20260420T024824
CREATED:20241212T182639Z
LAST-MODIFIED:20241212T183912Z
UID:6326-1735084800-1735171199@athomevet.care
SUMMARY:Christmas Day Closed
DESCRIPTION:
URL:https://athomevet.care/event/christmas-day-closed/
CATEGORIES:Holiday Closure
END:VEVENT
BEGIN:VEVENT
DTSTART;TZID=America/New_York:20241226T000000
DTEND;TZID=America/New_York:20241230T235959
DTSTAMP:20260420T024824
CREATED:20241212T182909Z
LAST-MODIFIED:20241212T183909Z
UID:6328-1735171200-1735603199@athomevet.care
SUMMARY:Regular Clinic Hours
DESCRIPTION:Clinic Hours: https://athomevet.care/contact/
URL:https://athomevet.care/event/regular-clinic-hours/
CATEGORIES:Generic
END:VEVENT
BEGIN:VEVENT
DTSTART;TZID=America/New_York:20241231T073000
DTEND;TZID=America/New_York:20241231T140000
DTSTAMP:20260420T024824
CREATED:20241212T183142Z
LAST-MODIFIED:20241212T183906Z
UID:6330-1735630200-1735653600@athomevet.care
SUMMARY:New Year's Eve Hours
DESCRIPTION:All pets must be dropped off OR picked up by 2 PM. Late drop-offs or pickups will not be accepted.
URL:https://athomevet.care/event/new-years-eve-hours/
CATEGORIES:Holiday Hours
END:VEVENT
BEGIN:VEVENT
DTSTART;TZID=America/New_York:20250101T000000
DTEND;TZID=America/New_York:20250101T235959
DTSTAMP:20260420T024824
CREATED:20241212T183227Z
LAST-MODIFIED:20241212T183903Z
UID:6333-1735689600-1735775999@athomevet.care
SUMMARY:New Year's Day Closed
DESCRIPTION:
URL:https://athomevet.care/event/new-years-day-closed/
CATEGORIES:Holiday Closure
END:VEVENT
END:VCALENDAR