BEGIN:VCALENDAR
VERSION:2.0
PRODID:-//At Home Veterinary Care - ECPv6.15.20//NONSGML v1.0//EN
CALSCALE:GREGORIAN
METHOD:PUBLISH
X-WR-CALNAME:At Home Veterinary Care
X-ORIGINAL-URL:https://athomevet.care
X-WR-CALDESC:Events for At Home Veterinary Care
REFRESH-INTERVAL;VALUE=DURATION:PT1H
X-Robots-Tag:noindex
X-PUBLISHED-TTL:PT1H
BEGIN:VTIMEZONE
TZID:America/New_York
BEGIN:DAYLIGHT
TZOFFSETFROM:-0500
TZOFFSETTO:-0400
TZNAME:EDT
DTSTART:20230312T070000
END:DAYLIGHT
BEGIN:STANDARD
TZOFFSETFROM:-0400
TZOFFSETTO:-0500
TZNAME:EST
DTSTART:20231105T060000
END:STANDARD
BEGIN:DAYLIGHT
TZOFFSETFROM:-0500
TZOFFSETTO:-0400
TZNAME:EDT
DTSTART:20240310T070000
END:DAYLIGHT
BEGIN:STANDARD
TZOFFSETFROM:-0400
TZOFFSETTO:-0500
TZNAME:EST
DTSTART:20241103T060000
END:STANDARD
BEGIN:DAYLIGHT
TZOFFSETFROM:-0500
TZOFFSETTO:-0400
TZNAME:EDT
DTSTART:20250309T070000
END:DAYLIGHT
BEGIN:STANDARD
TZOFFSETFROM:-0400
TZOFFSETTO:-0500
TZNAME:EST
DTSTART:20251102T060000
END:STANDARD
END:VTIMEZONE
BEGIN:VEVENT
DTSTART;TZID=America/New_York:20240618T000000
DTEND;TZID=America/New_York:20240618T235959
DTSTAMP:20260419T150830
CREATED:20240522T192521Z
LAST-MODIFIED:20240522T192555Z
UID:5530-1718668800-1718755199@athomevet.care
SUMMARY:AKC Star Puppy Class Begins
DESCRIPTION:Click More Information to read the class description and download a registration form. \n\n\n\n\n\nClass dates are tentative until confirmed by the instructor. \n\n\n\n\n\nINSTRUCTOR\n\n\n\n\n\nLOCATION
URL:https://athomevet.care/event/akc-star-puppy-class-begins/
LOCATION:At Home Veterinary Care\, 1833 Junwin Ct.\, Tallahassee\, FL\, 32308\, United States
CATEGORIES:Training Class
ATTACH;FMTTYPE=image/jpeg:https://athomevet.care/wp-content/uploads/2024/05/qtq80-Uzvvqk.jpeg
END:VEVENT
BEGIN:VEVENT
DTSTART;TZID=America/New_York:20240612T073000
DTEND;TZID=America/New_York:20240612T193000
DTSTAMP:20260419T150830
CREATED:20240521T211056Z
LAST-MODIFIED:20240522T191103Z
UID:5498-1718177400-1718220600@athomevet.care
SUMMARY:Wacky Water Wednesday
DESCRIPTION:Enjoy our Splash Park on Wednesdays. Call the office to reserve your slot.
URL:https://athomevet.care/event/wacky-water-wednesday-6-12/
LOCATION:FL
CATEGORIES:Special Event
ATTACH;FMTTYPE=image/jpeg:https://athomevet.care/wp-content/uploads/2024/05/ai-generated-dog-pool.jpg
END:VEVENT
BEGIN:VEVENT
DTSTART;TZID=America/New_York:20240608T000000
DTEND;TZID=America/New_York:20240608T235959
DTSTAMP:20260419T150830
CREATED:20240522T192003Z
LAST-MODIFIED:20240522T192243Z
UID:5522-1717804800-1717891199@athomevet.care
SUMMARY:AKC Canine Good Citizen Class Begins
DESCRIPTION:Click More Information to read the class description and download a registration form. \n\n\n\n\n\nClass dates are tentative until confirmed by the instructor. \n\n\n\n\n\nINSTRUCTOR\n\n\n\n\n\nLOCATION
URL:https://athomevet.care/event/akc-canine-good-citizen-class-begins/
LOCATION:At Home Veterinary Care\, 1833 Junwin Ct.\, Tallahassee\, FL\, 32308\, United States
CATEGORIES:Training Class
ATTACH;FMTTYPE=image/jpeg:https://athomevet.care/wp-content/uploads/2024/05/qtq80-ClLXtX.jpeg
END:VEVENT
BEGIN:VEVENT
DTSTART;TZID=America/New_York:20240605T073000
DTEND;TZID=America/New_York:20240605T193000
DTSTAMP:20260419T150830
CREATED:20240521T210942Z
LAST-MODIFIED:20240522T191033Z
UID:5496-1717572600-1717615800@athomevet.care
SUMMARY:Wacky Water Wednesday
DESCRIPTION:Enjoy our Splash Park on Wednesdays. Call the office to reserve your slot.
URL:https://athomevet.care/event/wacky-water-wednesday-6-5/
LOCATION:FL
CATEGORIES:Special Event
ATTACH;FMTTYPE=image/jpeg:https://athomevet.care/wp-content/uploads/2024/05/ai-generated-dog-pool.jpg
END:VEVENT
BEGIN:VEVENT
DTSTART;TZID=America/New_York:20240529T073000
DTEND;TZID=America/New_York:20240529T193000
DTSTAMP:20260419T150830
CREATED:20240521T210132Z
LAST-MODIFIED:20240522T191150Z
UID:5483-1716967800-1717011000@athomevet.care
SUMMARY:Wacky Water Wednesday
DESCRIPTION:Enjoy our Splash Park on Wednesdays. Call the office to reserve your slot.
URL:https://athomevet.care/event/wacky-water-wednesday-5-29/
LOCATION:FL
CATEGORIES:Special Event
ATTACH;FMTTYPE=image/jpeg:https://athomevet.care/wp-content/uploads/2024/05/ai-generated-dog-pool.jpg
END:VEVENT
BEGIN:VEVENT
DTSTART;TZID=America/New_York:20240527T183000
DTEND;TZID=America/New_York:20240527T193000
DTSTAMP:20260419T150830
CREATED:20240521T205420Z
LAST-MODIFIED:20240521T205512Z
UID:5481-1716834600-1716838200@athomevet.care
SUMMARY:Memorial Day Weekend Hours
DESCRIPTION:
URL:https://athomevet.care/event/memorial-day-weekend-hours-2-2/
LOCATION:FL
CATEGORIES:Holiday Hours
ATTACH;FMTTYPE=image/jpeg:https://athomevet.care/wp-content/uploads/2024/05/watercolor-5191649_640.jpg
END:VEVENT
BEGIN:VEVENT
DTSTART;TZID=America/New_York:20240526T180000
DTEND;TZID=America/New_York:20240526T193000
DTSTAMP:20260419T150830
CREATED:20240521T204115Z
LAST-MODIFIED:20240521T205220Z
UID:5474-1716746400-1716751800@athomevet.care
SUMMARY:Memorial Day Weekend Hours
DESCRIPTION:
URL:https://athomevet.care/event/memorial-day-weekend-hours-2/
LOCATION:FL
CATEGORIES:Holiday Hours
ATTACH;FMTTYPE=image/jpeg:https://athomevet.care/wp-content/uploads/2024/05/watercolor-5191649_640.jpg
END:VEVENT
BEGIN:VEVENT
DTSTART;TZID=America/New_York:20240525T180000
DTEND;TZID=America/New_York:20240525T193000
DTSTAMP:20260419T150830
CREATED:20240521T203848Z
LAST-MODIFIED:20240521T205112Z
UID:5472-1716660000-1716665400@athomevet.care
SUMMARY:Memorial Day Weekend Hours
DESCRIPTION:
URL:https://athomevet.care/event/memorial-day-weekend-hours/
LOCATION:FL
CATEGORIES:Holiday Hours
ATTACH;FMTTYPE=image/jpeg:https://athomevet.care/wp-content/uploads/2024/05/watercolor-5191649_640.jpg
END:VEVENT
BEGIN:VEVENT
DTSTART;TZID=America/New_York:20240525T073000
DTEND;TZID=America/New_York:20240525T140000
DTSTAMP:20260419T150830
CREATED:20240521T203649Z
LAST-MODIFIED:20240521T205037Z
UID:5468-1716622200-1716645600@athomevet.care
SUMMARY:Memorial Day Weekend Hours
DESCRIPTION:
URL:https://athomevet.care/event/memorial-day-weekend/
LOCATION:FL
CATEGORIES:Holiday Hours
ATTACH;FMTTYPE=image/jpeg:https://athomevet.care/wp-content/uploads/2024/05/watercolor-5191649_640.jpg
END:VEVENT
END:VCALENDAR